BEGIN:VCALENDAR
VERSION:2.0
PRODID:-//eventon.com NONSGML v1.0//EN
CALSCALE:GREGORIAN
METHOD:PUBLISH
BEGIN:VEVENT
UID:69ea076912c95
DTSTAMP:20260423T115001Z
DTSTART:20260818T143000Z
DTEND:20260818T215900Z
LOCATION:Chiemgauer Alpen
SUMMARY:Stoißer Alm
DESCRIPTION:Die Stoißer Alm ist &#8220;der&#8221; Mountainbike-Klassiker i
 m Rupertiwinkel.\nhttps://www.dav-burghausen.de/events/stoisser-alm/
URL:https://www.dav-burghausen.de/events/stoisser-alm/
END:VEVENT
END:VCALENDAR