BEGIN:VCALENDAR
VERSION:2.0
PRODID:-//eventon.com NONSGML v1.0//EN
CALSCALE:GREGORIAN
METHOD:PUBLISH
BEGIN:VEVENT
UID:69eb3dddb2bdc
DTSTAMP:20260424T095437Z
DTSTART:20260711
DTEND:20260712
LOCATION:Zillertaler Alpen
SUMMARY:Hochtour Schwarzenstein
DESCRIPTION:Leichte Hochtour für Geübte (F ) im Zillertal. Man startet vo
 n der Berliner Hütte und geht über den mäßig steilen Gletscher\,  zum S
 chluss über Blockgelände im I UIAA Grad zum Gipfel. &nbsp;\nhttps://www.d
 av-burghausen.de/events/hochtour-schwarzenstein/
URL:https://www.dav-burghausen.de/events/hochtour-schwarzenstein/
END:VEVENT
END:VCALENDAR