BEGIN:VCALENDAR
VERSION:2.0
PRODID:-//eventon.com NONSGML v1.0//EN
CALSCALE:GREGORIAN
METHOD:PUBLISH
BEGIN:VEVENT
UID:69e801934069c
DTSTAMP:20260421T230035Z
DTSTART:20260808
DTEND:20260809
LOCATION:Zillertaler Alpen
SUMMARY:Überschreitung Olperer 3476m
DESCRIPTION:Eine der grandiosesten Touren im Zillertal ist die Überschreit
 ung des Olperer von der Olpererhütte aus. Aufstieg über den Nordgrat\,  A
 bstieg über den Riepengrat und zurück zur Olpererhütte. &nbsp;\nhttps://
 www.dav-burghausen.de/events/ueberschreitung-olperer-3476m/
URL:https://www.dav-burghausen.de/events/ueberschreitung-olperer-3476m/
END:VEVENT
END:VCALENDAR