BEGIN:VCALENDAR
VERSION:2.0
PRODID:-//eventon.com NONSGML v1.0//EN
CALSCALE:GREGORIAN
METHOD:PUBLISH
BEGIN:VEVENT
UID:69e7d1c79cb57
DTSTAMP:20260421T193639Z
DTSTART:20260301
DTEND:20260302
LOCATION:Radstädter Tauern
SUMMARY:Kleiner Pleißlingkeil
DESCRIPTION:Herrliche Skitour in den Niederen Tauern auf den Kleinen Pleiß
 lingkeil. Aufgrund der hohen Ausgangslage ist diese Route relativ schneesic
 her\nhttps://www.dav-burghausen.de/events/kleiner-pleisslingkeil/
URL:https://www.dav-burghausen.de/events/kleiner-pleisslingkeil/
END:VEVENT
END:VCALENDAR