BEGIN:VCALENDAR
VERSION:2.0
PRODID:-//eventon.com NONSGML v1.0//EN
CALSCALE:GREGORIAN
METHOD:PUBLISH
BEGIN:VEVENT
UID:69eb5b740edfb
DTSTAMP:20260424T120052Z
DTSTART:20251017T150000Z
DTEND:20251017T215900Z
LOCATION:DAV Kletterzentrum Burghausen Franz-Alexander-Straße 10\,  84489 Burghausen
SUMMARY:Klettertechnik für Fortgeschrittene
DESCRIPTION:Du kletterst schon länger und willst Deine Kletterleistung opt
 imieren\,  z.B. vom 5. auf den 6. Grad oder vom 6. auf den 7. Grad. Dann bi
 st Du hier richtig. An vier Abenden führen wir ein Fortgeschrittenen Train
 ing zur Steigerung Deiner Kletterleistung durch. Innerhalb der Kurstermine 
 werden wir relevante Aspekte für ein[..]\nhttps://www.dav-burghausen.de/ev
 ents/klettertechnik-fuer-fortgeschrittene-10-2025/
URL:https://www.dav-burghausen.de/events/klettertechnik-fuer-fortgeschrittene-10-2025/
END:VEVENT
END:VCALENDAR