BEGIN:VCALENDAR
VERSION:2.0
PRODID:-//eventon.com NONSGML v1.0//EN
CALSCALE:GREGORIAN
METHOD:PUBLISH
BEGIN:VEVENT
UID:69e78db2ea228
DTSTAMP:20260421T144610Z
DTSTART:20260919T060000Z
DTEND:20260919T215900Z
LOCATION:Chiemgauer Alpen
SUMMARY:Gemeinsam\,  achtsam wandern – zum Adlerkopf in den Chiemgauer Alpen
DESCRIPTION:Diese stille und wenig begangene Bergtour führt uns zunächst 
 über die breite Forststraße fast eben\,  später auf einem schmalen und d
 urchweg steilen Bergpfad  hinauf zum Adlerkopf – einem aussichtsreichen 
 Vorgipfel des Sonntagshorns. Der Weg verläuft abwechslungsreich durch Wald
  und steilere Passagen\,  kurzzeitig Drahtseilversichert. Trittsicherheit u
 nd Schwindelfreiheit\,  sind erforderlich. Wir lassen[..]\nhttps://www.dav-
 burghausen.de/events/gemeinsam-achtsam-wandern-zum-adlerkopf-in-den-chiemga
 uer-alpen-2/
URL:https://www.dav-burghausen.de/events/gemeinsam-achtsam-wandern-zum-adlerkopf-in-den-chiemgauer-alpen-2/
END:VEVENT
END:VCALENDAR