BEGIN:VCALENDAR
VERSION:2.0
PRODID:-//eventon.com NONSGML v1.0//EN
CALSCALE:GREGORIAN
METHOD:PUBLISH
BEGIN:VEVENT
UID:69e7e76f0d49f
DTSTAMP:20260421T210903Z
DTSTART:20251007T053000Z
DTEND:20251007T215900Z
LOCATION:Salzkammergut-Berge
SUMMARY:Alpenwanderer - Sparber
DESCRIPTION:Vom Gasthaus Kleefeld erst auf Güterweg und dann teils wurzeli
 gem\,  schrofigem Steig über die Dürntalalm zum felsigen Gipfelaufbau. Ü
 ber seilgesicherte Stelle\,  Leiter teils etwas ausgesetzt zum herrlichen A
 ussichtsgipfel über dem Wolfgangsee. Übliche witterungsangepasste Wandera
 usrüstung\,  feste Bergschuhe\,  Getränk ud Gipfelbrotzeit\,  Einkehr ers
 t am Tourende möglich. Fahrt mit Sektionsbus\,  Abfahrt 7.30 Uhr[..]\nhttp
 s://www.dav-burghausen.de/events/sparber/
URL:https://www.dav-burghausen.de/events/sparber/
END:VEVENT
END:VCALENDAR