BEGIN:VCALENDAR
VERSION:2.0
PRODID:-//eventon.com NONSGML v1.0//EN
CALSCALE:GREGORIAN
METHOD:PUBLISH
BEGIN:VEVENT
UID:69e801376267e
DTSTAMP:20260421T225903Z
DTSTART:20251002T094300Z
DTEND:20251002T094300Z
LOCATION:DAV Kletterzentrum Burghausen Franz-Alexander-Straße 10\,  84489 Burghausen
SUMMARY:Klettertechnik für Fortgeschrittene
DESCRIPTION:Du kletterst schon länger und willst Deine Kletterleistung opt
 imieren? Dann bist Du hier richtig. An vier Abenden führen wir ein Technik
 training zur Steigerung Deiner Kletterleistung durch. Neben Übungen zum Au
 fwärmen und Reinkommen ins Klettern zeigen wir Dir z.B. die optimale Posit
 ionierung der Hände und Füße beim Greifen und Treten; Stichwörter[..]\n
 https://www.dav-burghausen.de/events/klettertechnik-fuer-fortgeschrittene-1
 2-2025/
URL:https://www.dav-burghausen.de/events/klettertechnik-fuer-fortgeschrittene-12-2025/
END:VEVENT
END:VCALENDAR