BEGIN:VCALENDAR
VERSION:2.0
PRODID:-//eventon.com NONSGML v1.0//EN
CALSCALE:GREGORIAN
METHOD:PUBLISH
BEGIN:VEVENT
UID:69ec95f3a860b
DTSTAMP:20260425T102243Z
DTSTART:20260206T180000Z
DTEND:20260206T225900Z
LOCATION:DAV Kletterzentrum Burghausen Franz-Alexander-Straße 10\,  84489 Burghausen
SUMMARY:Klettertechnik für Fortgeschrittene
DESCRIPTION:Du kletterst schon länger und willst Deine Kletterleistung opt
 imieren? Dann bist Du hier richtig. An vier Abenden führen wir ein Technik
 training zur Steigerung Deiner Kletterleistung durch. Neben Übungen zum Au
 fwärmen und Reinkommen ins Klettern zeigen wir Dir z.B. die optimale Posit
 ionierung der Hände und Füße beim Greifen und Treten; Stichwörter[..]\n
 https://www.dav-burghausen.de/events/klettertechnik-fuer-fortgeschrittene-0
 2-2026/
URL:https://www.dav-burghausen.de/events/klettertechnik-fuer-fortgeschrittene-02-2026/
END:VEVENT
END:VCALENDAR