BEGIN:VCALENDAR
VERSION:2.0
PRODID:-//eventon.com NONSGML v1.0//EN
CALSCALE:GREGORIAN
METHOD:PUBLISH
BEGIN:VEVENT
UID:69e783723ad40
DTSTAMP:20260421T140226Z
DTSTART:20260815
DTEND:20260816
LOCATION:Zillertaler Alpen
SUMMARY:Überschreitung des Schönbichler Horn's über die Berliner Hütte
DESCRIPTION:1. Tag: Zustieg vom Alpengasthof Breitlahner zur Berliner Hütt
 e (790 hm\,  10 km) auf einfachen Wanderwegen 2. Tag: Aufstieg zum Schönbi
 chler Horn (3132 m) Hier handelt es sich um eine anspruchsvolle Bergwanderu
 ng durch teilweise seilversichertes hochalpines Gelände. Trittsicherheit u
 nd Schwindelfreiheit dringend erforderlich. Am Gipfel werden wir mit eine w
 underbaren Aussicht[..]\nhttps://www.dav-burghausen.de/events/ueberschreitu
 ng-des-schoenbichler-horns-ueber-die-berliner-huette/
URL:https://www.dav-burghausen.de/events/ueberschreitung-des-schoenbichler-horns-ueber-die-berliner-huette/
END:VEVENT
END:VCALENDAR