BEGIN:VCALENDAR
VERSION:2.0
PRODID:-//eventon.com NONSGML v1.0//EN
CALSCALE:GREGORIAN
METHOD:PUBLISH
BEGIN:VEVENT
UID:69e79bbe6a47d
DTSTAMP:20260421T154606Z
DTSTART:20251110T170000Z
DTEND:20251110T225900Z
LOCATION:DAV Kletterzentrum Burghausen Franz-Alexander-Straße 10\,  84489 Burghausen
SUMMARY:Klettertechnik für Fortgeschrittene
DESCRIPTION:Du kletterst schon länger und willst Deine Kletterleistung opt
 imieren? Dann bist Du hier richtig. An vier Abenden führen wir ein Technik
 training zur Steigerung Deiner Kletterleistung durch. Neben Übungen zum Au
 fwärmen und Reinkommen ins Klettern zeigen wir Dir z.B. die optimale Posit
 ionierung der Hände und Füße beim Greifen und Treten; Stichwörter[..]\n
 https://www.dav-burghausen.de/events/klettertechnik-fuer-fortgeschrittene-1
 1-2025/
URL:https://www.dav-burghausen.de/events/klettertechnik-fuer-fortgeschrittene-11-2025/
END:VEVENT
END:VCALENDAR