BEGIN:VCALENDAR
VERSION:2.0
PRODID:-//eventon.com NONSGML v1.0//EN
CALSCALE:GREGORIAN
METHOD:PUBLISH
BEGIN:VEVENT
UID:69e73ee08adae
DTSTAMP:20260421T090952Z
DTSTART:20260306T170000Z
DTEND:20260306T200000Z
LOCATION:DAV Kletterzentrum Burghausen Franz-Alexander-Straße 10\,  84489 Burghausen
SUMMARY:Sicherungsupdate und Sturztraining
DESCRIPTION:Du hast schon Klettererfahrung\,  die vielleicht schon länger 
 zurückliegt? In diesem 3-stündigen Kompaktkurs könnt ihr eure Vorstiegs-
  und Sicherungstechnik überprüfen und auffrischen. Neben der Vorstellung 
 und richtigen Bedienung der aktuellen Sicherungsgeräte (Halbautomaten) zei
 gen wir euch auch Elemente aus dem Sturztraining. Die Kursschwerpunkte stim
 men wir mit Euren Bedürfnissen ab.\nhttps://www.dav-burghausen.de/events/s
 icherungsupdate-und-sturztraining-03-26/
URL:https://www.dav-burghausen.de/events/sicherungsupdate-und-sturztraining-03-26/
END:VEVENT
END:VCALENDAR