BEGIN:VCALENDAR
VERSION:2.0
PRODID:-//eventon.com NONSGML v1.0//EN
CALSCALE:GREGORIAN
METHOD:PUBLISH
BEGIN:VEVENT
UID:69e73e7a3129c
DTSTAMP:20260421T090810Z
DTSTART:20260303T063000Z
DTEND:20260303T225900Z
LOCATION:Salzkammergut-Berge
SUMMARY:Alpenwanderer - Zwölferhorn am Wolfgangsee
DESCRIPTION:Wir starten am Parkplatz in Tiefbrunnau. Von dort folgen wir de
 r Forststraße und steigen zunächst auf die Pillensteinhöhe (1478 m). Dor
 t genießen wir die Aussicht. Nun laufen wir weiter zum Zwölferhorn\,  von
  dem wir einen schönen Blick auf den Wolfgangsee haben. Der Abstieg führt
  uns an der Sausteigalm (evtl. geöffnet)[..]\nhttps://www.dav-burghausen.d
 e/events/zwoelferhorn-am-wolfgangsee/
URL:https://www.dav-burghausen.de/events/zwoelferhorn-am-wolfgangsee/
END:VEVENT
END:VCALENDAR