BEGIN:VCALENDAR
VERSION:2.0
PRODID:-//eventon.com NONSGML v1.0//EN
CALSCALE:GREGORIAN
METHOD:PUBLISH
BEGIN:VEVENT
UID:69e8f86c298b0
DTSTAMP:20260422T163348Z
DTSTART:20260614T070000Z
DTEND:20260614T140000Z
LOCATION:Bayerische Voralpen
SUMMARY:Alpiner Erstehilfekurs - intern
DESCRIPTION:Mit der Bergwacht Altötting frischen wir unser Wissen rund um 
 Erste Hilfe am Berg praxisnah auf. In etwa sechs Stunden lernen wir typisch
 e Verletzungsmuster im alpinen Gelände kennen und trainieren\,  wie wir in
  Notfallsituationen richtig handeln. Der Fokus liegt auf realistischen Szen
 arien und praktischen Maßnahmen\,  damit wir auch in anspruchsvollen[..]\n
 https://www.dav-burghausen.de/events/erstehilfekurs-26-06/
URL:https://www.dav-burghausen.de/events/erstehilfekurs-26-06/
END:VEVENT
END:VCALENDAR