BEGIN:VCALENDAR
VERSION:2.0
PRODID:-//eventon.com NONSGML v1.0//EN
CALSCALE:GREGORIAN
METHOD:PUBLISH
BEGIN:VEVENT
UID:69eb3ef61d3d0
DTSTAMP:20260424T095918Z
DTSTART:20260926T060000Z
DTEND:20260927T160000Z
LOCATION:Kaisergebirge
SUMMARY:Alpiner Erstehilfekurs - intern
DESCRIPTION:Gemeinsam mit der DAV Sektion TAK aus MÃ¼nchen und der DAV Sekt
 ion Gangkofen tauchen wir in einem intensiven zweitÃ¤gigen Kurs tief in das
  Thema alpine Erste Hilfe ein. Die Fortbildung richtet sich speziell an Tou
 ren- und Jugendleiter*innen\,  die ihre Handlungssicherheit im alpinen GelÃ
 ¤nde erweitern mÃ¶chten. In rund 16 Unterrichtseinheiten beschÃ¤ftigen[..]\
 nhttps://www.dav-burghausen.de/events/erstehilfekurs-26-09/
URL:https://www.dav-burghausen.de/events/erstehilfekurs-26-09/
END:VEVENT
END:VCALENDAR