BEGIN:VCALENDAR
VERSION:2.0
PRODID:-//eventon.com NONSGML v1.0//EN
CALSCALE:GREGORIAN
METHOD:PUBLISH
BEGIN:VEVENT
UID:69ea1d8656de7
DTSTAMP:20260423T132422Z
DTSTART:20231028T080000Z
DTEND:20231028T215000Z
LOCATION:
SUMMARY:Mäh- und Entbuschungsaktion
DESCRIPTION:Gemeinsam mit dem Landschaftspflegeverband Altötting wollen wi
 r den 45 Grad steilen Hang des Innhorns in Marktl mähen und entbuschen.\nh
 ttps://www.dav-burghausen.de/events/maeh-und-entbuschungsaktion/
URL:https://www.dav-burghausen.de/events/maeh-und-entbuschungsaktion/
END:VEVENT
END:VCALENDAR