BEGIN:VCALENDAR
VERSION:2.0
PRODID:-//eventon.com NONSGML v1.0//EN
CALSCALE:GREGORIAN
METHOD:PUBLISH
BEGIN:VEVENT
UID:69ea07694205b
DTSTAMP:20260423T115001Z
DTSTART:20231112
DTEND:20231113
LOCATION:Chiemgauer Alpen
SUMMARY:Höglrunde
DESCRIPTION:Von der Stroblalm mit herrlicher Aussicht auf einem Waldweg run
 d um den Högl mit einem Abstecher zum Gipfel. Mit geländetauglichem Kinde
 rwagen möglich (ohne Gipfel). Zielgruppe: Familien mit Kindern im Altersbe
 reich zwischen 2 und ca. 7 Jahren.\nhttps://www.dav-burghausen.de/events/ho
 eglrunde-stroblalm/
URL:https://www.dav-burghausen.de/events/hoeglrunde-stroblalm/
END:VEVENT
END:VCALENDAR