BEGIN:VCALENDAR
VERSION:2.0
PRODID:-//eventon.com NONSGML v1.0//EN
CALSCALE:GREGORIAN
METHOD:PUBLISH
BEGIN:VEVENT
UID:69ea1f7a0997c
DTSTAMP:20260423T133242Z
DTSTART:20230923T043000Z
DTEND:20230923T215000Z
LOCATION:Kitzbüheler Alpen
SUMMARY:Erste Bergbus-Tour\,  Gruppe 1; Markbachjoch Überschreitung
DESCRIPTION:Aufstieg ca. 650 Hm\,  Seilbahnunterstützung möglich (nur Ber
 gfahrt)\,  Gehzeit (Auf- und Abstieg\,  ohne Pausen) ca 4\, 5 Stunden; einf
 ache Wanderwege Der Aufstieg führt uns ab Bushaltestelle Niederau zum Teil
  relativ steil entlang einer Skipiste in zahlreichen Kehren bis zur Bergsta
 tion der Seilbahn. Sollte sich jemand den Aufstieg nicht zutrauen\,  so kan
 n[..]\nhttps://www.dav-burghausen.de/events/erste-bergbus-tour-gruppe-1-mar
 kbachjoch-ueberschreitung/
URL:https://www.dav-burghausen.de/events/erste-bergbus-tour-gruppe-1-markbachjoch-ueberschreitung/
END:VEVENT
END:VCALENDAR