BEGIN:VCALENDAR
VERSION:2.0
PRODID:-//eventon.com NONSGML v1.0//EN
CALSCALE:GREGORIAN
METHOD:PUBLISH
BEGIN:VEVENT
UID:69ecac2a37069
DTSTAMP:20260425T115730Z
DTSTART:20230829T152500Z
DTEND:20230829T152500Z
LOCATION:
SUMMARY:Schwarzer Berg (1583 m)
DESCRIPTION:Wanderung vom Bio Bergasthof Bachrain auf Forststaße\,  Pfad u
 nd z.Teil seilversichertem Steig &#8211; Abstieg wie Anstieg\nhttps://www.d
 av-burghausen.de/events/schwarzer-berg-1583-m/
URL:https://www.dav-burghausen.de/events/schwarzer-berg-1583-m/
END:VEVENT
END:VCALENDAR