BEGIN:VCALENDAR
VERSION:2.0
PRODID:-//eventon.com NONSGML v1.0//EN
CALSCALE:GREGORIAN
METHOD:PUBLISH
BEGIN:VEVENT
UID:69ea02d0288f0
DTSTAMP:20260423T113024Z
DTSTART:20231022
DTEND:20231023
LOCATION:Berchtesgadener Alpen
SUMMARY:Herbstwanderung zum Scheibenkaser
DESCRIPTION:Abwechslungsreiche aber steile Halbtageswanderung zum Scheibenk
 aser. Gerne bei der Anmeldung angeben\,  ob Mitfahrgeegenheiten gegeben sin
 d\,  um Fahrgemeinschaften zu gründen.\nhttps://www.dav-burghausen.de/even
 ts/herbstwanderung-zum-scheibenkaser/
URL:https://www.dav-burghausen.de/events/herbstwanderung-zum-scheibenkaser/
END:VEVENT
END:VCALENDAR