BEGIN:VCALENDAR
VERSION:2.0
PRODID:-//eventon.com NONSGML v1.0//EN
CALSCALE:GREGORIAN
METHOD:PUBLISH
BEGIN:VEVENT
UID:69ecac7cc77de
DTSTAMP:20260425T115852Z
DTSTART:20230904T170000Z
DTEND:20230904T190000Z
LOCATION:DAV Kletterzentrum Burghausen Franz-Alexander-Straße 10\,  84489 Burghausen
SUMMARY:Schnupperklettern Erwachsene
DESCRIPTION:Klettern ist ein toller Sport – aber wie damit anfangen? Es g
 ehören ja bekanntlich immer 2 dazu\,  aber wo den Zweiten hernehmen\,  wen
 n man noch gar nicht klettert? Oder wenn der potentielle Kletterpartner auc
 h noch nicht mit dem Klettern angefangen hat? Wenn Du schon immer mal klett
 ern wolltest\,  bist Du[..]\nhttps://www.dav-burghausen.de/events/schnupper
 klettern-erwachsene/
URL:https://www.dav-burghausen.de/events/schnupperklettern-erwachsene/
END:VEVENT
END:VCALENDAR