BEGIN:VCALENDAR
VERSION:2.0
PRODID:-//eventon.com NONSGML v1.0//EN
CALSCALE:GREGORIAN
METHOD:PUBLISH
BEGIN:VEVENT
UID:69eca5e1ed2fb
DTSTAMP:20260425T113041Z
DTSTART:20230923
DTEND:20230924
LOCATION:Chiemgauer Alpen
SUMMARY:Sportklettern im Chiemgau
DESCRIPTION:Voraussetzungen: Eigenständiges Sportklettern und erste Erfahr
 ungen am Fels. Vergleichbar mit Kurs &#8220;Von der Halle an den Fels&#8221
 ;\nhttps://www.dav-burghausen.de/events/sportklettern-im-chiemgau-zellerwan
 d-oder-pleitewandl/
URL:https://www.dav-burghausen.de/events/sportklettern-im-chiemgau-zellerwand-oder-pleitewandl/
END:VEVENT
END:VCALENDAR