BEGIN:VCALENDAR
VERSION:2.0
PRODID:-//eventon.com NONSGML v1.0//EN
CALSCALE:GREGORIAN
METHOD:PUBLISH
BEGIN:VEVENT
UID:69ecac2454a8b
DTSTAMP:20260425T115724Z
DTSTART:20230926T053000Z
DTEND:20230926T215000Z
LOCATION:Chiemgauer Alpen
SUMMARY:Scheichenberg
DESCRIPTION:Vom Parkplatz aus hinauf auf die Steinbergalm\,  weiter zur Hoc
 herbalm und zur Haargraßalm. Aus einem Sattel wandern wir zum Gipfel des S
 cheichenbergs (1243m)\,  wo wir eine schöne Aussicht genießen können. Ab
 stieg auf Almstraße und Wanderweg mit Einkehrmöglichkeit bei der Steinber
 galm.\nhttps://www.dav-burghausen.de/events/scheichenberg/
URL:https://www.dav-burghausen.de/events/scheichenberg/
END:VEVENT
END:VCALENDAR