BEGIN:VCALENDAR
VERSION:2.0
PRODID:-//eventon.com NONSGML v1.0//EN
CALSCALE:GREGORIAN
METHOD:PUBLISH
BEGIN:VEVENT
UID:69eca6d6f2019
DTSTAMP:20260425T113446Z
DTSTART:20240317
DTEND:20240318
LOCATION:
SUMMARY:Frühlingswanderung im Chiemgau
DESCRIPTION:Vom Griessee aus in großer Runde (18km) über Obing\,  Pittenh
 art\,  Oberbrunn und Seeon zurück zum Griessee.\nhttps://www.dav-burghause
 n.de/events/fruehlingswanderung-im-chiemgau/
URL:https://www.dav-burghausen.de/events/fruehlingswanderung-im-chiemgau/
END:VEVENT
END:VCALENDAR