BEGIN:VCALENDAR
VERSION:2.0
PRODID:-//eventon.com NONSGML v1.0//EN
CALSCALE:GREGORIAN
METHOD:PUBLISH
BEGIN:VEVENT
UID:69ecbb16c396c
DTSTAMP:20260425T130110Z
DTSTART:20240421
DTEND:20240422
LOCATION:Salzkammergut-Berge
SUMMARY:Gaisberg
DESCRIPTION:Nördlicher Anstieg auf den Gipfel direkt von Salzburg aus mit 
 tollem Panorama. Abstieg über den Büffelsteig.\nhttps://www.dav-burghause
 n.de/events/gaisberg/
URL:https://www.dav-burghausen.de/events/gaisberg/
END:VEVENT
END:VCALENDAR