BEGIN:VCALENDAR
VERSION:2.0
PRODID:-//eventon.com NONSGML v1.0//EN
CALSCALE:GREGORIAN
METHOD:PUBLISH
BEGIN:VEVENT
UID:69e9f50716612
DTSTAMP:20260423T103135Z
DTSTART:20231003
DTEND:20231004
LOCATION:Chiemgauer Alpen
SUMMARY:Wandberg
DESCRIPTION:Mittelschwere Wanderung vom Walchsee über den Brennkopf (1353m
 ) zum Wandberg (1454m).\nhttps://www.dav-burghausen.de/events/alpenwanderer
 /
URL:https://www.dav-burghausen.de/events/alpenwanderer/
END:VEVENT
END:VCALENDAR