BEGIN:VCALENDAR
VERSION:2.0
PRODID:-//eventon.com NONSGML v1.0//EN
CALSCALE:GREGORIAN
METHOD:PUBLISH
BEGIN:VEVENT
UID:69eca78587768
DTSTAMP:20260425T113741Z
DTSTART:20240113
DTEND:20240114
LOCATION:Bayerische Voralpen
SUMMARY:BrÃ¼nnsteinschanze
DESCRIPTION:Die BrÃ¼nnsteinschanze oberhalb des bekannten &#8220;Tatzelwurm
 s&#8221; bietet relativ gefahrlosen TourenspaÃŸ und ist fÃ¼r AnfÃ¤nger geei
 gnet. Die Aufstiegs- und Abfahrtsroute verlÃ¤uft auf nur mÃ¤ÃŸig steilen HÃ
 ¤ngen in west- bis nordseitiger Ausrichtung. Oben wartet ein schÃ¶ner Rundb
 lick in Richtung Kaiser und Wendelstein!\nhttps://www.dav-burghausen.de/eve
 nts/bruennsteinschanze-anfaengerskitour/
URL:https://www.dav-burghausen.de/events/bruennsteinschanze-anfaengerskitour/
END:VEVENT
END:VCALENDAR